Package: clst Version: 1.57.0 Command: /home/biocbuild/bbs-3.22-bioc/R/bin/R CMD INSTALL clst StartedAt: 2025-10-24 15:16:24 -0400 (Fri, 24 Oct 2025) EndedAt: 2025-10-24 15:16:51 -0400 (Fri, 24 Oct 2025) EllapsedTime: 27.4 seconds RetCode: 0 Status: OK