Package: clipper Version: 1.50.0 Command: /home/biocbuild/bbs-3.22-bioc/R/bin/R CMD INSTALL clipper StartedAt: 2025-10-29 22:01:35 -0400 (Wed, 29 Oct 2025) EndedAt: 2025-10-29 22:02:13 -0400 (Wed, 29 Oct 2025) EllapsedTime: 38.5 seconds RetCode: 0 Status: OK