Package: cliProfiler Version: 1.15.0 Command: /home/biocbuild/bbs-3.22-bioc/R/bin/R CMD INSTALL cliProfiler StartedAt: 2025-10-24 15:40:05 -0400 (Fri, 24 Oct 2025) EndedAt: 2025-10-24 15:40:42 -0400 (Fri, 24 Oct 2025) EllapsedTime: 36.6 seconds RetCode: 0 Status: OK