Package: cliProfiler Version: 1.16.0 Command: /Library/Frameworks/R.framework/Resources/bin/R CMD INSTALL cliProfiler StartedAt: 2025-11-03 15:35:59 -0500 (Mon, 03 Nov 2025) EndedAt: 2025-11-03 15:36:47 -0500 (Mon, 03 Nov 2025) EllapsedTime: 47.5 seconds RetCode: 0 Status: OK