Package: cliProfiler Version: 1.16.0 Command: /Library/Frameworks/R.framework/Resources/bin/R CMD build --keep-empty-dirs --no-resave-data cliProfiler StartedAt: 2025-11-03 16:29:45 -0500 (Mon, 03 Nov 2025) EndedAt: 2025-11-03 16:31:08 -0500 (Mon, 03 Nov 2025) EllapsedTime: 83.3 seconds RetCode: 0 Status: OK PackageFile: cliProfiler_1.16.0.tar.gz PackageFileSize: 1.284 MiB