Package: cliProfiler Version: 1.15.0 Command: /Library/Frameworks/R.framework/Resources/bin/R CMD INSTALL cliProfiler StartedAt: 2025-10-26 15:16:09 -0400 (Sun, 26 Oct 2025) EndedAt: 2025-10-26 15:16:24 -0400 (Sun, 26 Oct 2025) EllapsedTime: 15.4 seconds RetCode: 0 Status: OK