Package: cleanUpdTSeq Version: 1.48.0 Command: /Library/Frameworks/R.framework/Resources/bin/R CMD INSTALL cleanUpdTSeq StartedAt: 2025-11-10 15:19:05 -0500 (Mon, 10 Nov 2025) EndedAt: 2025-11-10 15:19:30 -0500 (Mon, 10 Nov 2025) EllapsedTime: 25.0 seconds RetCode: 0 Status: OK