Package: cisPath Version: 1.50.0 Command: /Library/Frameworks/R.framework/Resources/bin/R CMD INSTALL cisPath StartedAt: 2025-11-03 15:09:17 -0500 (Mon, 03 Nov 2025) EndedAt: 2025-11-03 15:09:40 -0500 (Mon, 03 Nov 2025) EllapsedTime: 23.3 seconds RetCode: 1 Status: ERROR