Package: cisPath Version: 1.50.0 Command: /Library/Frameworks/R.framework/Resources/bin/R CMD INSTALL cisPath StartedAt: 2025-11-03 15:01:22 -0500 (Mon, 03 Nov 2025) EndedAt: 2025-11-03 15:01:26 -0500 (Mon, 03 Nov 2025) EllapsedTime: 3.6 seconds RetCode: 1 Status: ERROR