Package: cisPath Version: 1.50.0 Command: /Library/Frameworks/R.framework/Resources/bin/R CMD build --keep-empty-dirs --no-resave-data cisPath StartedAt: 2025-11-03 15:56:29 -0500 (Mon, 03 Nov 2025) EndedAt: 2025-11-03 15:56:33 -0500 (Mon, 03 Nov 2025) EllapsedTime: 4.0 seconds RetCode: 1 Status: ERROR PackageFile: None PackageFileSize: NA