Package: cisPath Version: 1.50.0 Command: /Library/Frameworks/R.framework/Resources/bin/R CMD INSTALL cisPath StartedAt: 2025-11-17 16:51:11 -0500 (Mon, 17 Nov 2025) EndedAt: 2025-11-17 16:51:15 -0500 (Mon, 17 Nov 2025) EllapsedTime: 4.3 seconds RetCode: 1 Status: ERROR