Package: circRNAprofiler Version: 1.24.0 Command: /home/biocbuild/bbs-3.22-bioc/R/bin/R CMD build --keep-empty-dirs --no-resave-data --md5 circRNAprofiler StartedAt: 2025-11-13 16:52:47 -0500 (Thu, 13 Nov 2025) EndedAt: 2025-11-13 16:54:16 -0500 (Thu, 13 Nov 2025) EllapsedTime: 89.1 seconds RetCode: 0 Status: OK PackageFile: circRNAprofiler_1.24.0.tar.gz PackageFileSize: 3.646 MiB