Package: chromVAR Version: 1.32.0 Command: /home/biocbuild/bbs-3.22-bioc/R/bin/R CMD INSTALL chromVAR StartedAt: 2025-11-25 16:19:38 -0500 (Tue, 25 Nov 2025) EndedAt: 2025-11-25 16:20:44 -0500 (Tue, 25 Nov 2025) EllapsedTime: 66.7 seconds RetCode: 0 Status: OK