Package: chromPlot Version: 1.38.0 Command: /Library/Frameworks/R.framework/Resources/bin/R CMD INSTALL chromPlot StartedAt: 2025-11-10 15:31:28 -0500 (Mon, 10 Nov 2025) EndedAt: 2025-11-10 15:31:35 -0500 (Mon, 10 Nov 2025) EllapsedTime: 6.3 seconds RetCode: 0 Status: OK