Package: chromPlot Version: 1.38.0 Command: /Library/Frameworks/R.framework/Resources/bin/R CMD build --keep-empty-dirs --no-resave-data chromPlot StartedAt: 2025-11-10 15:55:51 -0500 (Mon, 10 Nov 2025) EndedAt: 2025-11-10 15:56:13 -0500 (Mon, 10 Nov 2025) EllapsedTime: 21.2 seconds RetCode: 0 Status: OK PackageFile: chromPlot_1.38.0.tar.gz PackageFileSize: 1.522 MiB