Package: chromPlot Version: 1.38.0 Command: rm -rf chromPlot.buildbin-libdir && mkdir chromPlot.buildbin-libdir && /Users/biocbuild/BBS/utils/build-universal.sh chromPlot_1.38.0.tar.gz /Library/Frameworks/R.framework/Resources/bin/R chromPlot.buildbin-libdir StartedAt: 2025-11-10 23:14:49 -0500 (Mon, 10 Nov 2025) EndedAt: 2025-11-10 23:14:57 -0500 (Mon, 10 Nov 2025) EllapsedTime: 7.1 seconds RetCode: 0 Status: OK PackageFile: chromPlot_1.38.0.tgz PackageFileSize: 1.599 MiB