Package: chromDraw Version: 2.39.0 Command: /home/biocbuild/bbs-3.22-bioc/R/bin/R CMD INSTALL chromDraw StartedAt: 2025-10-24 15:33:33 -0400 (Fri, 24 Oct 2025) EndedAt: 2025-10-24 15:34:15 -0400 (Fri, 24 Oct 2025) EllapsedTime: 42.0 seconds RetCode: 0 Status: OK