Package: chipseq Version: 1.59.0 Command: /home/biocbuild/bbs-3.22-bioc/R/bin/R CMD build --keep-empty-dirs --no-resave-data --md5 chipseq StartedAt: 2025-10-24 16:58:36 -0400 (Fri, 24 Oct 2025) EndedAt: 2025-10-24 17:01:25 -0400 (Fri, 24 Oct 2025) EllapsedTime: 169.2 seconds RetCode: 0 Status: OK PackageFile: chipseq_1.59.0.tar.gz PackageFileSize: 2.458 MiB