Package: chipenrich Version: 2.34.0 Command: /home/biocbuild/bbs-3.22-bioc/R/bin/R CMD INSTALL chipenrich StartedAt: 2025-11-20 16:24:23 -0500 (Thu, 20 Nov 2025) EndedAt: 2025-11-20 16:25:08 -0500 (Thu, 20 Nov 2025) EllapsedTime: 44.9 seconds RetCode: 0 Status: OK