Package: chipenrich Version: 2.34.0 Command: /home/biocbuild/bbs-3.22-bioc/R/bin/R CMD build --keep-empty-dirs --no-resave-data --md5 chipenrich StartedAt: 2025-11-20 17:40:10 -0500 (Thu, 20 Nov 2025) EndedAt: 2025-11-20 17:41:43 -0500 (Thu, 20 Nov 2025) EllapsedTime: 93.1 seconds RetCode: 0 Status: OK PackageFile: chipenrich_2.34.0.tar.gz PackageFileSize: 768.6 KiB