Package: chevreulProcess Version: 1.1.2 Command: /home/biocbuild/bbs-3.22-bioc/R/bin/R CMD build --keep-empty-dirs --no-resave-data --md5 chevreulProcess StartedAt: 2025-10-24 16:57:09 -0400 (Fri, 24 Oct 2025) EndedAt: 2025-10-24 16:58:20 -0400 (Fri, 24 Oct 2025) EllapsedTime: 71.1 seconds RetCode: 0 Status: OK PackageFile: chevreulProcess_1.1.2.tar.gz PackageFileSize: 4.76 MiB