Package: chevreulPlot Version: 1.2.0 Command: /home/biocbuild/bbs-3.22-bioc/R/bin/R CMD INSTALL chevreulPlot StartedAt: 2025-11-03 15:59:53 -0500 (Mon, 03 Nov 2025) EndedAt: 2025-11-03 16:00:50 -0500 (Mon, 03 Nov 2025) EllapsedTime: 57.2 seconds RetCode: 0 Status: OK