Package: chevreulPlot Version: 1.2.0 Command: /home/biocbuild/bbs-3.22-bioc/R/bin/R CMD build --keep-empty-dirs --no-resave-data --md5 chevreulPlot StartedAt: 2025-10-31 16:57:50 -0400 (Fri, 31 Oct 2025) EndedAt: 2025-10-31 16:59:08 -0400 (Fri, 31 Oct 2025) EllapsedTime: 78.1 seconds RetCode: 0 Status: OK PackageFile: chevreulPlot_1.2.0.tar.gz PackageFileSize: 12.85 MiB