Package: cfTools Version: 1.10.0 Command: /Library/Frameworks/R.framework/Resources/bin/R CMD INSTALL cfTools StartedAt: 2025-11-10 15:10:32 -0500 (Mon, 10 Nov 2025) EndedAt: 2025-11-10 15:10:47 -0500 (Mon, 10 Nov 2025) EllapsedTime: 14.6 seconds RetCode: 0 Status: OK