Package: cfTools Version: 1.10.0 Command: /Library/Frameworks/R.framework/Resources/bin/R CMD build --keep-empty-dirs --no-resave-data cfTools StartedAt: 2025-11-10 15:54:14 -0500 (Mon, 10 Nov 2025) EndedAt: 2025-11-10 15:54:41 -0500 (Mon, 10 Nov 2025) EllapsedTime: 27.3 seconds RetCode: 1 Status: ERROR PackageFile: None PackageFileSize: NA