Package: cfDNAPro Version: 1.15.0 Command: /home/biocbuild/bbs-3.22-bioc/R/bin/R CMD INSTALL cfDNAPro StartedAt: 2025-10-27 15:39:02 -0400 (Mon, 27 Oct 2025) EndedAt: 2025-10-27 15:39:36 -0400 (Mon, 27 Oct 2025) EllapsedTime: 33.7 seconds RetCode: 0 Status: OK