Package: cfDNAPro Version: 1.15.0 Command: /home/biocbuild/bbs-3.22-bioc/R/bin/R CMD build --keep-empty-dirs --no-resave-data --md5 cfDNAPro StartedAt: 2025-10-27 16:47:28 -0400 (Mon, 27 Oct 2025) EndedAt: 2025-10-27 16:48:28 -0400 (Mon, 27 Oct 2025) EllapsedTime: 60.1 seconds RetCode: 0 Status: OK PackageFile: cfDNAPro_1.15.0.tar.gz PackageFileSize: 1.39 MiB