Package: cellxgenedp Version: 1.14.0 Command: /home/biocbuild/bbs-3.22-bioc/R/bin/R CMD INSTALL cellxgenedp StartedAt: 2025-11-02 15:15:23 -0500 (Sun, 02 Nov 2025) EndedAt: 2025-11-02 15:15:30 -0500 (Sun, 02 Nov 2025) EllapsedTime: 6.8 seconds RetCode: 0 Status: OK