Package: cellxgenedp Version: 1.14.0 Command: /home/biocbuild/bbs-3.22-bioc/R/bin/R CMD build --keep-empty-dirs --no-resave-data --md5 cellxgenedp StartedAt: 2025-11-02 16:59:10 -0500 (Sun, 02 Nov 2025) EndedAt: 2025-11-02 17:00:42 -0500 (Sun, 02 Nov 2025) EllapsedTime: 92.0 seconds RetCode: 0 Status: OK PackageFile: cellxgenedp_1.14.0.tar.gz PackageFileSize: 473.3 KiB