Package: cellscape Version: 1.34.0 Command: /home/biocbuild/bbs-3.22-bioc/R/bin/R CMD INSTALL cellscape StartedAt: 2025-11-06 15:08:52 -0500 (Thu, 06 Nov 2025) EndedAt: 2025-11-06 15:08:58 -0500 (Thu, 06 Nov 2025) EllapsedTime: 6.1 seconds RetCode: 0 Status: OK