Package: cellity Version: 1.38.0 Command: /home/biocbuild/bbs-3.22-bioc/R/bin/R CMD INSTALL cellity StartedAt: 2025-11-14 15:42:06 -0500 (Fri, 14 Nov 2025) EndedAt: 2025-11-14 15:42:24 -0500 (Fri, 14 Nov 2025) EllapsedTime: 17.5 seconds RetCode: 0 Status: OK