Package: cellbaseR Version: 1.33.0 Command: /home/biocbuild/bbs-3.22-bioc/R/bin/R CMD INSTALL cellbaseR StartedAt: 2025-10-24 15:34:33 -0400 (Fri, 24 Oct 2025) EndedAt: 2025-10-24 15:34:48 -0400 (Fri, 24 Oct 2025) EllapsedTime: 14.7 seconds RetCode: 0 Status: OK