Package: ceRNAnetsim Version: 1.21.1 Command: /home/biocbuild/bbs-3.22-bioc/R/bin/R CMD build --keep-empty-dirs --no-resave-data --md5 ceRNAnetsim StartedAt: 2025-10-24 16:55:13 -0400 (Fri, 24 Oct 2025) EndedAt: 2025-10-24 16:59:32 -0400 (Fri, 24 Oct 2025) EllapsedTime: 259.3 seconds RetCode: 0 Status: OK PackageFile: ceRNAnetsim_1.21.1.tar.gz PackageFileSize: 2.97 MiB