Package: ceRNAnetsim Version: 1.22.0 Command: /Library/Frameworks/R.framework/Resources/bin/R CMD INSTALL ceRNAnetsim StartedAt: 2025-11-06 15:05:23 -0500 (Thu, 06 Nov 2025) EndedAt: 2025-11-06 15:05:27 -0500 (Thu, 06 Nov 2025) EllapsedTime: 3.9 seconds RetCode: 0 Status: OK