Package: ceRNAnetsim Version: 1.22.0 Command: /Library/Frameworks/R.framework/Resources/bin/R CMD build --keep-empty-dirs --no-resave-data ceRNAnetsim StartedAt: 2025-11-06 15:53:47 -0500 (Thu, 06 Nov 2025) EndedAt: 2025-11-06 15:55:28 -0500 (Thu, 06 Nov 2025) EllapsedTime: 101.2 seconds RetCode: 0 Status: OK PackageFile: ceRNAnetsim_1.22.0.tar.gz PackageFileSize: 3.065 MiB