Package: ceRNAnetsim Version: 1.22.0 Command: rm -rf ceRNAnetsim.buildbin-libdir && mkdir ceRNAnetsim.buildbin-libdir && /Users/biocbuild/BBS/utils/build-universal.sh ceRNAnetsim_1.22.0.tar.gz /Library/Frameworks/R.framework/Resources/bin/R ceRNAnetsim.buildbin-libdir StartedAt: 2025-11-06 22:58:58 -0500 (Thu, 06 Nov 2025) EndedAt: 2025-11-06 22:59:02 -0500 (Thu, 06 Nov 2025) EllapsedTime: 4.1 seconds RetCode: 0 Status: OK PackageFile: ceRNAnetsim_1.22.0.tgz PackageFileSize: 2.594 MiB