Package: ceRNAnetsim Version: 1.22.0 Command: /Library/Frameworks/R.framework/Resources/bin/R CMD INSTALL ceRNAnetsim StartedAt: 2025-11-17 17:05:44 -0500 (Mon, 17 Nov 2025) EndedAt: 2025-11-17 17:05:49 -0500 (Mon, 17 Nov 2025) EllapsedTime: 4.4 seconds RetCode: 0 Status: OK