Package: ceRNAnetsim Version: 1.22.0 Command: rm -rf ceRNAnetsim.buildbin-libdir && mkdir ceRNAnetsim.buildbin-libdir && /Users/biocbuild/BBS/utils/build-universal.sh ceRNAnetsim_1.22.0.tar.gz /Library/Frameworks/R.framework/Resources/bin/R ceRNAnetsim.buildbin-libdir StartedAt: 2025-11-18 15:15:23 -0500 (Tue, 18 Nov 2025) EndedAt: 2025-11-18 15:15:28 -0500 (Tue, 18 Nov 2025) EllapsedTime: 5.1 seconds RetCode: 0 Status: OK PackageFile: ceRNAnetsim_1.22.0.tgz PackageFileSize: 2.594 MiB