Package: ccrepe Version: 1.45.0 Command: /home/biocbuild/bbs-3.22-bioc/R/bin/R CMD INSTALL ccrepe StartedAt: 2025-10-24 15:22:05 -0400 (Fri, 24 Oct 2025) EndedAt: 2025-10-24 15:22:11 -0400 (Fri, 24 Oct 2025) EllapsedTime: 6.5 seconds RetCode: 0 Status: OK