Package: ccmap Version: 1.35.1 Command: /home/biocbuild/bbs-3.22-bioc/R/bin/R CMD INSTALL ccmap StartedAt: 2025-10-27 15:32:36 -0400 (Mon, 27 Oct 2025) EndedAt: 2025-10-27 15:32:51 -0400 (Mon, 27 Oct 2025) EllapsedTime: 15.2 seconds RetCode: 0 Status: OK