Package: ccfindR Version: 1.30.0 Command: /home/biocbuild/bbs-3.22-bioc/R/bin/R CMD INSTALL ccfindR StartedAt: 2025-11-13 15:19:50 -0500 (Thu, 13 Nov 2025) EndedAt: 2025-11-13 15:20:39 -0500 (Thu, 13 Nov 2025) EllapsedTime: 48.4 seconds RetCode: 0 Status: OK