Package: cbaf Version: 1.32.0 Command: /home/biocbuild/bbs-3.22-bioc/R/bin/R CMD INSTALL cbaf StartedAt: 2025-11-17 17:56:57 -0500 (Mon, 17 Nov 2025) EndedAt: 2025-11-17 17:57:40 -0500 (Mon, 17 Nov 2025) EllapsedTime: 43.8 seconds RetCode: 0 Status: OK