Package: categoryCompare Version: 1.54.0 Command: /home/biocbuild/bbs-3.22-bioc/R/bin/R CMD build --keep-empty-dirs --no-resave-data --md5 categoryCompare StartedAt: 2025-11-02 16:54:00 -0500 (Sun, 02 Nov 2025) EndedAt: 2025-11-02 16:56:25 -0500 (Sun, 02 Nov 2025) EllapsedTime: 145.1 seconds RetCode: 0 Status: OK PackageFile: categoryCompare_1.54.0.tar.gz PackageFileSize: 3.164 MiB