Package: canceR Version: 1.44.0 Command: /home/biocbuild/bbs-3.22-bioc/R/bin/R CMD INSTALL canceR StartedAt: 2025-11-06 15:59:54 -0500 (Thu, 06 Nov 2025) EndedAt: 2025-11-06 16:01:12 -0500 (Thu, 06 Nov 2025) EllapsedTime: 78.2 seconds RetCode: 0 Status: OK