Package: canceR Version: 1.44.0 Command: /home/biocbuild/bbs-3.22-bioc/R/bin/R CMD build --keep-empty-dirs --no-resave-data --md5 canceR StartedAt: 2025-11-06 16:39:05 -0500 (Thu, 06 Nov 2025) EndedAt: 2025-11-06 16:40:36 -0500 (Thu, 06 Nov 2025) EllapsedTime: 91.1 seconds RetCode: 0 Status: OK PackageFile: canceR_1.44.0.tar.gz PackageFileSize: 31.46 MiB