Package: calm Version: 1.24.0 Command: /home/biocbuild/bbs-3.22-bioc/R/bin/R CMD INSTALL calm StartedAt: 2025-11-02 15:16:59 -0500 (Sun, 02 Nov 2025) EndedAt: 2025-11-02 15:17:05 -0500 (Sun, 02 Nov 2025) EllapsedTime: 5.3 seconds RetCode: 0 Status: OK