Package: calm Version: 1.24.0 Command: /home/biocbuild/bbs-3.22-bioc/R/bin/R CMD build --keep-empty-dirs --no-resave-data --md5 calm StartedAt: 2025-11-03 16:39:28 -0500 (Mon, 03 Nov 2025) EndedAt: 2025-11-03 16:41:25 -0500 (Mon, 03 Nov 2025) EllapsedTime: 117.1 seconds RetCode: 0 Status: OK PackageFile: calm_1.24.0.tar.gz PackageFileSize: 394.9 KiB