Package: cBioPortalData Version: 2.21.5 Command: /home/biocbuild/bbs-3.22-bioc/R/bin/R CMD INSTALL cBioPortalData StartedAt: 2025-10-28 15:43:57 -0400 (Tue, 28 Oct 2025) EndedAt: 2025-10-28 15:44:39 -0400 (Tue, 28 Oct 2025) EllapsedTime: 42.0 seconds RetCode: 0 Status: OK