Package: bugsigdbr Version: 1.16.0 Command: /home/biocbuild/bbs-3.22-bioc/R/bin/R CMD INSTALL bugsigdbr StartedAt: 2025-11-17 17:06:26 -0500 (Mon, 17 Nov 2025) EndedAt: 2025-11-17 17:06:28 -0500 (Mon, 17 Nov 2025) EllapsedTime: 2.0 seconds RetCode: 0 Status: OK