Package: bugsigdbr Version: 1.16.0 Command: /home/biocbuild/bbs-3.22-bioc/R/bin/R CMD build --keep-empty-dirs --no-resave-data --md5 bugsigdbr StartedAt: 2025-11-17 19:52:25 -0500 (Mon, 17 Nov 2025) EndedAt: 2025-11-17 19:54:22 -0500 (Mon, 17 Nov 2025) EllapsedTime: 117.1 seconds RetCode: 0 Status: OK PackageFile: bugsigdbr_1.16.0.tar.gz PackageFileSize: 329.8 KiB